BEGIN:VCALENDAR
VERSION:2.0
PRODID:-//Center for the Human Past - ECPv6.15.20//NONSGML v1.0//EN
CALSCALE:GREGORIAN
METHOD:PUBLISH
X-ORIGINAL-URL:https://centerforthehumanpast.se
X-WR-CALDESC:Events for Center for the Human Past
REFRESH-INTERVAL;VALUE=DURATION:PT1H
X-Robots-Tag:noindex
X-PUBLISHED-TTL:PT1H
BEGIN:VTIMEZONE
TZID:Europe/Stockholm
BEGIN:DAYLIGHT
TZOFFSETFROM:+0100
TZOFFSETTO:+0200
TZNAME:CEST
DTSTART:20240331T010000
END:DAYLIGHT
BEGIN:STANDARD
TZOFFSETFROM:+0200
TZOFFSETTO:+0100
TZNAME:CET
DTSTART:20241027T010000
END:STANDARD
BEGIN:DAYLIGHT
TZOFFSETFROM:+0100
TZOFFSETTO:+0200
TZNAME:CEST
DTSTART:20250330T010000
END:DAYLIGHT
BEGIN:STANDARD
TZOFFSETFROM:+0200
TZOFFSETTO:+0100
TZNAME:CET
DTSTART:20251026T010000
END:STANDARD
BEGIN:DAYLIGHT
TZOFFSETFROM:+0100
TZOFFSETTO:+0200
TZNAME:CEST
DTSTART:20260329T010000
END:DAYLIGHT
BEGIN:STANDARD
TZOFFSETFROM:+0200
TZOFFSETTO:+0100
TZNAME:CET
DTSTART:20261025T010000
END:STANDARD
END:VTIMEZONE
BEGIN:VEVENT
DTSTART;TZID=Europe/Stockholm:20251118T101500
DTEND;TZID=Europe/Stockholm:20251118T120000
DTSTAMP:20260424T053313
CREATED:20251027T140658Z
LAST-MODIFIED:20251027T140738Z
UID:2180-1763460900-1763467200@centerforthehumanpast.se
SUMMARY:SCAS seminar with Hugo Reyes Centeno: Genomic and Archaeological Insights on the Expansion of Austronesian Speakers into Island Southeast Asia
DESCRIPTION:Swedish Collegium for Advanced Study seminars
URL:https://centerforthehumanpast.se/index.php/event/scas-seminar-with-hugo-reyes-centeno-genomic-and-archaeological-insights-on-the-expansion-of-austronesian-speakers-into-island-southeast-asia/
LOCATION:Thunberg Hall\, Linneanum\, Thunbergsvägen 2\, Uppsala\, 752 36\, Sweden
CATEGORIES:Seminars
END:VEVENT
END:VCALENDAR