BEGIN:VCALENDAR
VERSION:2.0
PRODID:-//Center for the Human Past - ECPv6.15.20//NONSGML v1.0//EN
CALSCALE:GREGORIAN
METHOD:PUBLISH
X-ORIGINAL-URL:https://centerforthehumanpast.se
X-WR-CALDESC:Events for Center for the Human Past
REFRESH-INTERVAL;VALUE=DURATION:PT1H
X-Robots-Tag:noindex
X-PUBLISHED-TTL:PT1H
BEGIN:VTIMEZONE
TZID:Europe/Stockholm
BEGIN:DAYLIGHT
TZOFFSETFROM:+0100
TZOFFSETTO:+0200
TZNAME:CEST
DTSTART:20250330T010000
END:DAYLIGHT
BEGIN:STANDARD
TZOFFSETFROM:+0200
TZOFFSETTO:+0100
TZNAME:CET
DTSTART:20251026T010000
END:STANDARD
BEGIN:DAYLIGHT
TZOFFSETFROM:+0100
TZOFFSETTO:+0200
TZNAME:CEST
DTSTART:20260329T010000
END:DAYLIGHT
BEGIN:STANDARD
TZOFFSETFROM:+0200
TZOFFSETTO:+0100
TZNAME:CET
DTSTART:20261025T010000
END:STANDARD
BEGIN:DAYLIGHT
TZOFFSETFROM:+0100
TZOFFSETTO:+0200
TZNAME:CEST
DTSTART:20270328T010000
END:DAYLIGHT
BEGIN:STANDARD
TZOFFSETFROM:+0200
TZOFFSETTO:+0100
TZNAME:CET
DTSTART:20271031T010000
END:STANDARD
END:VTIMEZONE
BEGIN:VEVENT
DTSTART;TZID=Europe/Stockholm:20260304T133000
DTEND;TZID=Europe/Stockholm:20260304T144500
DTSTAMP:20260424T152026
CREATED:20260225T093809Z
LAST-MODIFIED:20260225T093809Z
UID:2575-1772631000-1772635500@centerforthehumanpast.se
SUMMARY:Mini-Seminar: Using the dog to date Torricelli languages with linguistic paleontology\, with Erik Elgh
DESCRIPTION:Abstract\nThe earliest archaeological dog remains in Melanesia found to date are from Babase Island\, New Ireland\, and are associated with the Early Lapita layers on the site\, thus dating from ca. 3300-3000 BP (Summerhayes et al. 2019\, see Manne et al. 2020 for an overview of dog remains in the area). The formation of the Lapita culture in the Bismarck Archipelago is in turn associated with the influx of Austronesians\, more specifically speakers of Proto-Oceanic (Bellwood 2007:234\, Pawley 2007 echoes this view). Thus\, the introduction of the dog to Melanesia is likely tied to the arrival of the Austronesians to the area. \nIn the rest of the world\, the presence of domesticated dogs is ubiquitous in the time depths we can hope to reach by linguistic reconstruction. By contrast\, in Melanesia and thus New Guinea\, the late date of first appearance makes the dog amenable to inclusion in analyses of linguistic paleontology. Linguistic paleontology involves correlating terms reconstructed for proto languages with definable archaeological phenomena\, thus saying something about the time and place these proto languages were spoken. The foremost example is probable the so called ‘wheel line’\, used to delimit the time of non-Anatolian Indo-European to after the invention of wheeled vehicles (see e.g. Anthony & Ringe 2015). Using the same method\, if a word for ‘dog’ can be reconstructed for a Melanesian proto language\, it shows that this proto-language must have split after ca. 3300 BP when the dog was introduced. \nIn this talk\, I reconstruct a word for ‘dog’ for a large subgroup of Torricelli languages. Furthermore\, I investigate words for ‘dog’ in nine other language families in the Sepik-Ramu basin and surrounding area in order to exclude large scale borrowing waves giving rise to the pattern seen in the relevant Torricelli languages. Disproving such waves\, I show that the most recent common ancestor of a big proportion of Torricelli languages must have split after 3300 BP\, rejecting earlier proposals stating that the current distribution of the family must be ‘several millenia’ or ‘six to five thousand years’ old (Foley 2018:296 and Swadling 1990\, respectively).\nI also discuss issues pertaining to Oceanic words for ‘dog’ in relation to those of languages in the Sepik-Ramu basin. For instance\, the words in some Torricelli and many non-Torricelli languages are similar to those of the Schouten Linkage Oceanic languages\, while at least one Schouten Linkage language\, Arop-Sissano\, seems to have borrowed from Olo\, a local Torricelli language (as noted already by Hudson 1989). Additionally\, I propose a historical scenario accounting for the scatter of forms that bear similarity to Proto-Austronesian *asu1 ‘dog’ (as reconstructed by Blust et al. 2023)\, reflexes of which are deemed to be absent in Proto-Oceanic (see e.g. Lynch 1991 and Pawley 2007). \nErik Elgh is an affiliated researcher in general linguistics at Uppsala University\, and currently participates in the Postgraduate Linguistics Program\, Faculty of Humanities\, Udayana University\, Indonesia
URL:https://centerforthehumanpast.se/index.php/event/mini-seminar-using-the-dog-to-date-torricelli-languages-with-linguistic-paleontology-with-erik-elgh/
LOCATION:Villa Lugnet\, von Kraemers allé 8\, Uppsala\, Sweden\, 75236\, Sweden
CATEGORIES:Mini-Seminars,Seminars
END:VEVENT
BEGIN:VEVENT
DTSTART;TZID=Europe/Stockholm:20260304T151500
DTEND;TZID=Europe/Stockholm:20260304T163000
DTSTAMP:20260424T152026
CREATED:20260217T094317Z
LAST-MODIFIED:20260224T133154Z
UID:2504-1772637300-1772641800@centerforthehumanpast.se
SUMMARY:Talks of the Past Open Seminar: Genetic relatedness in Stone Age Scandinavia\, speaker Helena Malmström
DESCRIPTION:Abstract\nDid genetic relatedness matter in Scandinavian Stone Age societies? And if so\, how? The increase in the number of individuals with available ancient DNA data\, coupled with new tools for assessing relatedness from such data\, now allows us to infer kinship patterns beyond broad-scale population structures. \nThis talk will summarise some of the ongoing research on genetic kinship structures among individuals who lived in present-day Scandinavia between 3\,500 and 2\,300 BCE. Three cultural complexes existed during this period\, and previous research has shown that they were genetically distinct from each other. While two of them had an agricultural base\, one (the Funnel Beaker Culture) practised communal burials in megalithic tombs\, and the other (the Battle Axe Culture) displayed more individualised burials. Distinct from these were a group of late marine hunter-gatherers (the Pitted Ware Culture). \nIn this talk\, Helena Malmström will discuss how genetic relatedness patterns can inform on burial practices\, marital patterns and social structures in these three Stone Age groups. She will also give examples of how specific archaeological contexts and isotope analyses can help in this regard. Helena looks forward to rewarding discussions on this topic. \n \nHelena Malmström is an archaeogeneticist interested in ancient DNA\, archaeology and population genomics\, Human Evolution Program\, Uppsala University (Google Scholar)
URL:https://centerforthehumanpast.se/index.php/event/talks-of-the-past-open-seminar-with-helena-malmstrom/
LOCATION:Blåsenhus\, seminar room 12:010 (ground floor)\, von Kraemers allé 1\, Uppsala\, 752 36\, Sweden
CATEGORIES:Lectures,Seminars,Talks of the Past
ATTACH;FMTTYPE=image/jpeg:https://centerforthehumanpast.se/wp-content/uploads/2024/10/ToP-seminars-8-1.jpeg
END:VEVENT
BEGIN:VEVENT
DTSTART;TZID=Europe/Stockholm:20260318T151500
DTEND;TZID=Europe/Stockholm:20260318T163000
DTSTAMP:20260424T152026
CREATED:20260226T112300Z
LAST-MODIFIED:20260226T112300Z
UID:2579-1773846900-1773851400@centerforthehumanpast.se
SUMMARY:Mini-Seminar: Models\, data\, and their limits: What can we know about the deep history of language families? with Philipp Rönchen
DESCRIPTION:Abstract\nComputational methods are increasingly used to reconstruct the deep history of language families\, yet different models often produce strikingly different answers. This reflects a general challenge in the historical sciences: we must draw conclusions from fragmentary data shaped by complex processes that cannot be directly observed or experimentally repeated. \nIn this talk\, I summarise the main ideas of my PhD thesis\, which examines how computational methods can be evaluated rather than simply applied. I argue that good statistical fit to the available data is not\, on its own\, evidence of reliable historical inference\, because results depend strongly on modelling assumptions and on how we represent processes of change. I will discuss why more elaborate models do not necessarily yield more trustworthy conclusions\, and how simulation can be used to probe the robustness of our inferences and clarify what computational methods can\, and cannot\, tell us about the past. \n \nPhilipp Rönchen is a PhD candidate in general linguistics at the Department of Linguistics and Philology\, Uppsala University
URL:https://centerforthehumanpast.se/index.php/event/mini-seminar-models-data-and-their-limits-what-can-we-know-about-the-deep-history-of-language-families-with-philipp-ronchen/
LOCATION:Villa Lugnet\, von Kraemers allé 8\, Uppsala\, Sweden\, 75236\, Sweden
CATEGORIES:Mini-Seminars,Seminars
END:VEVENT
BEGIN:VEVENT
DTSTART;TZID=Europe/Stockholm:20260324T160000
DTEND;TZID=Europe/Stockholm:20260324T173000
DTSTAMP:20260424T152026
CREATED:20260302T124407Z
LAST-MODIFIED:20260302T124539Z
UID:2587-1774368000-1774373400@centerforthehumanpast.se
SUMMARY:Higher Seminar in Baltic Studies\, Stockholm University\, with Anthony Jakob
DESCRIPTION:The Higher Seminar in Baltic Languages with Signe Rirdance (SU) and Anthony Jakob (SCAS). The seminar is split into two sessions (with a coffee break in between):\n\n\n14:00-15:30 – Signe Rirdance (SU): “Deciphering Getzel’s hand in early Latvian: AI and I” \n16:00-17:30 – Anthony Jakob (SCAS): “Linguistic ghosts and zombies in modern Standard Lithuanian”\nLanguage: English \nNote: Please register your participation via the event registration link. \nFor more information\, contact Frederik Bissinger (frederik.bissinger@balt.su.se)
URL:https://centerforthehumanpast.se/index.php/event/su-seminar-anthony-jakob-20260324/
LOCATION:Zoom\, Sweden
CATEGORIES:Lectures,Seminars
ATTACH;FMTTYPE=image/jpeg:https://centerforthehumanpast.se/wp-content/uploads/2026/03/SU-seminar-AnthonyJakob-20260324-e1772455313669.jpg
END:VEVENT
BEGIN:VEVENT
DTSTART;TZID=Europe/Stockholm:20260401T151500
DTEND;TZID=Europe/Stockholm:20260401T163000
DTSTAMP:20260424T152026
CREATED:20251009T094538Z
LAST-MODIFIED:20260309T084026Z
UID:2108-1775056500-1775061000@centerforthehumanpast.se
SUMMARY:Human Past Journal Club
DESCRIPTION:Discussion paper:\nYakov Pichkar and Nicole Creanza (2026). The Evolution of Language. Editor(s): Jason B. Wolf\, Claudia Augusta De Moraes Russo\, Encyclopedia of Evolutionary Biology (Second Edition)\, Academic Press\, Pages 409-420\, ISBN 9780443157516\,\nhttps://doi.org/10.1016/B978-0-443-15750-9.00030-6 \nAbstract\nThe evolution of modern humans has led to the proliferation of traits that are learned from other individuals\, instead of being inherited through genetics. The transmission of ideas and behaviors is facilitated by a uniquely human trait: language\, structured communication systems consisting of words and grammar. The neural and anatomical changes that allow for language have a basis in genetics\, but the specific features of language are transmitted through social learning between individuals. The words and the grammatical structures of languages can evolve over time\, both through change within a population and through contact between populations. In concert with the study of human genetics\, the study of language features and their evolution deepens our understanding of human demographic history and the nature of interactions between groups of people. \nModerator: Carina Schlebusch
URL:https://centerforthehumanpast.se/index.php/event/human-past-journal-club-3/
LOCATION:Villa Lugnet\, von Kraemers allé 8\, Uppsala\, Sweden\, 75236\, Sweden
CATEGORIES:Journal Club
ATTACH;FMTTYPE=image/jpeg:https://centerforthehumanpast.se/wp-content/uploads/2025/03/Lightmatter_paperwork.jpg
END:VEVENT
BEGIN:VEVENT
DTSTART;TZID=Europe/Stockholm:20260415T151500
DTEND;TZID=Europe/Stockholm:20260415T163000
DTSTAMP:20260424T152026
CREATED:20260309T114914Z
LAST-MODIFIED:20260326T095203Z
UID:2626-1776266100-1776270600@centerforthehumanpast.se
SUMMARY:Talks of the Past open seminar: From Phonology to Phylogeny: Inferring Language Trees from Cognate Word Forms
DESCRIPTION:Abstract\nLinguistic phylogenies are commonly inferred from abstract cognate classifications that encode relationships among lexemes. Although widespread\, this practice has well-recognised limitations: it discards phylogenetic signal contained in segmental word forms\, restricts the range of evolutionary questions that can be addressed\, and treats cognacy judgments\, which are hypotheses in their own right\, as observed data. \nDavid Goldstein introduces a comparative framework that addresses these limitations by modelling the evolution of cognate word forms directly. The approach adapts the TKF91 model of molecular evolution\, originally developed to account for insertion and deletion processes in DNA sequences\, to linguistic data. By operating on segmental strings rather than abstract character codings\, the framework enables phylogenetic inference from observable word forms and supports quantitative investigation of sound change. \n \nDavid Goldstein\, current Human Past SCAS Senior Fellow\, received his PhD from the University of California\, Berkeley. His research lies at the intersection of language evolution\, classical philology\, linguistic theory\, and computational modelling. He specialises in the structure and historical development of Indo-European languages\, with particular focus on Greek and Latin.
URL:https://centerforthehumanpast.se/index.php/event/topseminar-david-goldstein20260415/
LOCATION:Blåsenhus\, seminar room 12:010 (ground floor)\, von Kraemers allé 1\, Uppsala\, 752 36\, Sweden
CATEGORIES:Lectures,Seminars,Talks of the Past
ATTACH;FMTTYPE=image/jpeg:https://centerforthehumanpast.se/wp-content/uploads/2024/10/ToP-seminars-8-1.jpeg
END:VEVENT
BEGIN:VEVENT
DTSTART;TZID=Europe/Stockholm:20260422T151500
DTEND;TZID=Europe/Stockholm:20260422T163000
DTSTAMP:20260424T152026
CREATED:20260408T125704Z
LAST-MODIFIED:20260408T125704Z
UID:2781-1776870900-1776875400@centerforthehumanpast.se
SUMMARY:Human Past Journal Club
DESCRIPTION:Paper to discuss: \nColleter\, R.\, Jaouen\, K.\, Garcia\, D.\, & Richards\, M.P. (2026). Dietary inequality marker reveals 10\,000 years of gender and cultural disparity in Europe\, PNAS Nexus\, vol. 5 (4)\, pgag033\, https://academic.oup.com/pnasnexus/article/5/4/pgag033/8586686 \nDiscussion moderators: Mattias Sjölander & Daniel Brown\, CHP postdoctoral researchers \nAbstract\n\nDiet is a key to evaluating social and health inequalities over time\, as it reflects disparities in access to resources often linked to socioeconomic and gender factors. Stable carbon and nitrogen isotopes\, while semi-quantitative\, typically limit intersite comparisons\, as the results are tied to local baseline isotope values. \nIn this study\, we overcome this limitation by applying the interdecile ratio—a metric from economics—to isotope data from 12\,281 individuals across 393 European sites over millennia. Our isotope-based dietary inequality index reveals the nonlinear evolution of dietary disparities over time and across different geographical areas. \nSex-based disparities are evident throughout all time periods. Male individuals are consistently overrepresented in the upper deciles\, indicating greater access to animal proteins\, while females dominate the lower deciles\, reflecting more restricted access. Neolithic societies exhibit homogeneous diets at the population level\, but animal protein consumption tends to differ between men and women. \nAs expected\, Bronze Age carbon interdecile indexes mark increasing dietary inequality\, likely linked to agricultural advances and social hierarchies. Dietary disparities peak during Antiquity\, although the gap between the sexes narrows slightly. This diachronic analysis highlights the complex interactions between diet\, social structures\, and gender and provides a robust framework for comparative studies of health inequalities in archaeology.
URL:https://centerforthehumanpast.se/index.php/event/human-past-journal-club-7/
LOCATION:Villa Lugnet\, von Kraemers allé 8\, Uppsala\, Sweden\, 75236\, Sweden
CATEGORIES:Journal Club
ATTACH;FMTTYPE=image/jpeg:https://centerforthehumanpast.se/wp-content/uploads/2025/03/Lightmatter_paperwork.jpg
END:VEVENT
BEGIN:VEVENT
DTSTART;TZID=Europe/Stockholm:20260428T101500
DTEND;TZID=Europe/Stockholm:20260428T120000
DTSTAMP:20260424T152026
CREATED:20260413T092107Z
LAST-MODIFIED:20260420T085258Z
UID:2789-1777371300-1777377600@centerforthehumanpast.se
SUMMARY:SCAS Seminar: Echoes of Preliterate Voices on the Shores of the Baltic Sea\, with Anthony Jakob
DESCRIPTION:Abstract\nWhen people think of their ancestry\, they are often just as concerned with the origins of their linguistic and cultural identity as they are with their genetic history. And while modern advances in ancient DNA have dramatically improved our understanding of prehistoric population movements\, genes do not themselves carry language. The fields of population genomics\, archaeology\, and historical linguistics\, while capable of informing one another\, study qualitatively different aspects of human history\, which only partially overlap. In this way\, linguistics offers a unique perspective in the study of our past. \nMost languages ever spoken by humans have been lost to history. Prior to the relatively recent migration events that brought the Uralic and Indo-European language families to the Baltic region\, the area may have been rich in an unwritten linguistic diversity\, a diversity that was dissipated as communities shifted away from their native tongues. In my talk\, I argue that we can infer traces of these lost languages on the basis of the words for local fauna\, flora\, and topographical phenomena used today that appear to be borrowed\, but whose source cannot be identified. \nZoom Webinar: https://uu-se.zoom.us/j/65802739142 \nAnthony Jakob is a historical linguist specialising in the Indo-European and Uralic languages and is currently a Human Past SCAS Junior Fellow.
URL:https://centerforthehumanpast.se/index.php/event/scas-seminar-substrate-words-and-language-shift-with-anthony-jakob/
LOCATION:Thunberg Hall\, Linneanum\, Thunbergsvägen 2\, Uppsala\, 752 36\, Sweden
CATEGORIES:Lectures,Seminars
ATTACH;FMTTYPE=image/png:https://centerforthehumanpast.se/wp-content/uploads/2024/04/SCAS_textlogo_Black-1.png
END:VEVENT
BEGIN:VEVENT
DTSTART;TZID=Europe/Stockholm:20260429T151500
DTEND;TZID=Europe/Stockholm:20260429T163000
DTSTAMP:20260424T152026
CREATED:20260324T111413Z
LAST-MODIFIED:20260324T111413Z
UID:2754-1777475700-1777480200@centerforthehumanpast.se
SUMMARY:Mini-Seminar: Corded Ware Dietary Practices\, with Łukasz Pospieszny
DESCRIPTION:Abstract (TBA)\n  \n \nŁukasz Pospieszny is an archaeologist at the University of Gdańsk and an Honorary Research Associate\, University of Bristol
URL:https://centerforthehumanpast.se/index.php/event/mini-seminar-corded-ware-dietary-practices-with-lukasz-pospieszny/
LOCATION:Villa Lugnet\, von Kraemers allé 8\, Uppsala\, Sweden\, 75236\, Sweden
CATEGORIES:Lectures,Mini-Seminars,Seminars
ATTACH;FMTTYPE=image/jpeg:https://centerforthehumanpast.se/wp-content/uploads/2026/03/Clay_goblet_of_the_Corded_Ware_culture_found_in_Doluje-16-9-scaled.jpg
END:VEVENT
BEGIN:VEVENT
DTSTART;TZID=Europe/Stockholm:20260506T151500
DTEND;TZID=Europe/Stockholm:20260506T163000
DTSTAMP:20260424T152026
CREATED:20260205T094248Z
LAST-MODIFIED:20260420T095825Z
UID:2082-1778080500-1778085000@centerforthehumanpast.se
SUMMARY:Talks of the Past Open Seminar: The Yamnaya Impact on Prehistoric Europe 5000 Years Ago\, speaker Volker Heyd
DESCRIPTION:Abstract\nThis lecture examines the westward migration of Yamnaya populations from the Pontic-Caspian steppes into southeastern Europe around 3100–3000 BCE\, reaching as far as the Tisza region in present-day Hungary. Archaeological evidence\, particularly distinctive kurgan burials with standardised funerary practices\, marks their presence across regions such as Romania\, Bulgaria\, Serbia\, and Hungary. Despite the apparent simplicity of grave goods\, recent findings suggest a more complex\, possibly stratified\, kinship-based pastoralist society\, if not entirely an elite. \nThe Yamnaya expansion triggered profound cultural\, social\, and genetic transformations across Europe. Their influence extended beyond burial customs to broader economic systems\, social organisation\, the European gene pool\, and the spread of Indo-European languages. Interactions with local populations were highly variable\, ranging from near-total population replacement to limited cultural exchange\, reflecting diverse regional dynamics. \nRecent advances in ancient DNA\, isotope analysis\, and bioarchaeology as part of the so-called “Third Scientific Revolution” in archaeology have significantly reshaped interpretations of these processes. These methods enable detailed reconstructions of mobility\, diet\, demography\, and biological ancestry\, offering new insights into the interconnected sequence of cultural horizons\, including the Globular Amphora\, Corded Ware\, and Bell Beaker complexes. \nOverall\, the Yamnaya phenomenon represents a key episode of large-scale mobility and interaction\, illustrating how migration\, environmental factors\, and social structures have long shaped Europe before it entered history. \n\nVolker Heyd is a Professor at the University of Helsinki in Finland. Previously\, he worked as a heritage manager/researcher in Germany and –before moving to Helsinki in 2018– for 17 years at the University of Bristol in the UK. Volker is a prehistoric archaeologist\, currently dedicated to topics of human mobility\, migration\, identity\, and ethnicity. He also promotes scientific applications in Archaeology\, particularly ancient DNA\, stable isotopes and biomarker lipids. Volker has authored/edited 12 books and published over 100 articles\, often in key archaeological or scientific journals\, spanning from the Early Neolithic in Anatolia to the Iron Age in Central Europe. Currently\, Volker is deputy director of the new FinTims isotope lab in Helsinki which he contributed establishing with a 2.4M € RCoF FIRI grant. Before\, he led as overall PI the ERC Advanced project ‘The Yamnaya Impact on Prehistoric Europe’ (2019-2024). \n 
URL:https://centerforthehumanpast.se/index.php/event/talks-of-the-past-open-seminar-understanding-yamnaya-in-archaeology-genetics-and-linguistics-speaker-volker-heyd/
LOCATION:Blåsenhus\, seminar room 12:010 (ground floor)\, von Kraemers allé 1\, Uppsala\, 752 36\, Sweden
CATEGORIES:Lectures,Seminars,Talks of the Past
ATTACH;FMTTYPE=image/jpeg:https://centerforthehumanpast.se/wp-content/uploads/2024/10/ToP-seminars-8-1.jpeg
END:VEVENT
BEGIN:VEVENT
DTSTART;TZID=Europe/Stockholm:20260603T151500
DTEND;TZID=Europe/Stockholm:20260603T163000
DTSTAMP:20260424T152026
CREATED:20260318T112454Z
LAST-MODIFIED:20260318T112454Z
UID:2741-1780499700-1780504200@centerforthehumanpast.se
SUMMARY:Talks of the Past Open Seminar with Kristian Kristiansen
DESCRIPTION:Title & abstract- TBA\n  \nKristian Kristiansen\nKristian Kristiansen – an interdisciplinary researcher\, professor of archaeology at the Department of Historical Studies\, University of Gothenburg\, and an affiliate professor at Globe Institute\, Lundbeck Centre for Geogenetics\, Copenhagen University.
URL:https://centerforthehumanpast.se/index.php/event/talks-of-the-past-open-seminar-with-kristian-kristiansen/
LOCATION:Blåsenhus\, seminar room 12:010 (ground floor)\, von Kraemers allé 1\, Uppsala\, 752 36\, Sweden
CATEGORIES:Lectures,Seminars,Talks of the Past
ATTACH;FMTTYPE=image/jpeg:https://centerforthehumanpast.se/wp-content/uploads/2024/10/ToP-seminars-8-1.jpeg
END:VEVENT
BEGIN:VEVENT
DTSTART;TZID=Europe/Stockholm:20260909T151500
DTEND;TZID=Europe/Stockholm:20260909T163000
DTSTAMP:20260424T152026
CREATED:20260318T111204Z
LAST-MODIFIED:20260318T111245Z
UID:2520-1788966900-1788971400@centerforthehumanpast.se
SUMMARY:Talks of the Past Open Seminar with Gwenna Breton
DESCRIPTION:Title & Abstract TBA\n  \n \nGwenna Breton is a geneticist and bioinformatician at the University of Gothenburg.
URL:https://centerforthehumanpast.se/index.php/event/top20260909-gwenna-breton/
LOCATION:Blåsenhus\, seminar room 12:010 (ground floor)\, von Kraemers allé 1\, Uppsala\, 752 36\, Sweden
CATEGORIES:Lectures,Seminars,Talks of the Past
ATTACH;FMTTYPE=image/jpeg:https://centerforthehumanpast.se/wp-content/uploads/2024/10/ToP-seminars-8-1.jpeg
END:VEVENT
BEGIN:VEVENT
DTSTART;TZID=Europe/Stockholm:20261007T151500
DTEND;TZID=Europe/Stockholm:20261007T163000
DTSTAMP:20260424T152026
CREATED:20260112T122021Z
LAST-MODIFIED:20260318T111023Z
UID:2244-1791386100-1791390600@centerforthehumanpast.se
SUMMARY:Talks of the Past Open Seminar: Cultural Creolization in Ostrobothnia\, Finland: An Interdisciplinary View on Burials\, Exchange\, and Social Identity\, speaker Anna Wessman
DESCRIPTION:The seminar was canceled due to unexpected events out of anyone’s control.\nWe apologize for inconvenience. \nAbstract\nThis talk explores a remarkable Iron Age burial from Pukkila in western Finland\, dating to around AD 700\, where a cremated individual was laid to rest in a boat alongside weapons\, ritual objects\, and artefacts from across Scandinavia\, eastern Europe\, and the north. Rather than fitting neatly into a single cultural or ethnic category\, the burial reflects a world shaped by long-distance trade\, mobility\, and cultural change. \nUsing the concept of cultural creolization\, the talk shows how identities\, beliefs\, and ritual practices emerged through the blending of different traditions. The Pukkila burial challenges simple labels such as “Scandinavian”\, “Finn\,” or “Sámi\,” and instead reveals how power\, religion\, gender\, and cultural belonging were actively negotiated in the Baltic Sea region.\nMore broadly\, the talk demonstrates how creolization offers a useful way to bring archaeology\, linguistics\, and religious studies together when interpreting the past. \n  \n  \nAnna Wessman is a professor of archaeology at Bergen University\, Norway. Her research focuses on the Late Iron Age in Scandinavia\, Finland and the Baltic countries\, Burial Archaeology and death rituals\, Avocational Metal-detecting\, Citizen Science\, Ethnographic methods\, Community Archaeology\, Museum Studies\, Digital Humanities\, and Archaeological databases. \nPhoto: Outi Pyhäranta/HS
URL:https://centerforthehumanpast.se/index.php/event/talks-of-the-past-20260204-anna-wessman/
LOCATION:Blåsenhus\, seminar room 12:010 (ground floor)\, von Kraemers allé 1\, Uppsala\, 752 36\, Sweden
CATEGORIES:Lectures,Seminars,Talks of the Past
ATTACH;FMTTYPE=image/png:https://centerforthehumanpast.se/wp-content/uploads/2026/01/inlagg-flera1080x1080-2-In-a-nutshell-1.png
END:VEVENT
END:VCALENDAR