BEGIN:VCALENDAR
VERSION:2.0
PRODID:-//Center for the Human Past - ECPv6.15.20//NONSGML v1.0//EN
CALSCALE:GREGORIAN
METHOD:PUBLISH
X-WR-CALNAME:Center for the Human Past
X-ORIGINAL-URL:https://centerforthehumanpast.se
X-WR-CALDESC:Events for Center for the Human Past
REFRESH-INTERVAL;VALUE=DURATION:PT1H
X-Robots-Tag:noindex
X-PUBLISHED-TTL:PT1H
BEGIN:VTIMEZONE
TZID:Europe/Stockholm
BEGIN:DAYLIGHT
TZOFFSETFROM:+0100
TZOFFSETTO:+0200
TZNAME:CEST
DTSTART:20230326T010000
END:DAYLIGHT
BEGIN:STANDARD
TZOFFSETFROM:+0200
TZOFFSETTO:+0100
TZNAME:CET
DTSTART:20231029T010000
END:STANDARD
BEGIN:DAYLIGHT
TZOFFSETFROM:+0100
TZOFFSETTO:+0200
TZNAME:CEST
DTSTART:20240331T010000
END:DAYLIGHT
BEGIN:STANDARD
TZOFFSETFROM:+0200
TZOFFSETTO:+0100
TZNAME:CET
DTSTART:20241027T010000
END:STANDARD
BEGIN:DAYLIGHT
TZOFFSETFROM:+0100
TZOFFSETTO:+0200
TZNAME:CEST
DTSTART:20250330T010000
END:DAYLIGHT
BEGIN:STANDARD
TZOFFSETFROM:+0200
TZOFFSETTO:+0100
TZNAME:CET
DTSTART:20251026T010000
END:STANDARD
END:VTIMEZONE
BEGIN:VEVENT
DTSTART;TZID=Europe/Stockholm:20241211T000000
DTEND;TZID=Europe/Stockholm:20241211T000000
DTSTAMP:20260424T121622
CREATED:20241121T145839Z
LAST-MODIFIED:20241121T150521Z
UID:1272-1733875200-1733875200@centerforthehumanpast.se
SUMMARY:CHP Event (by invitation only)
DESCRIPTION:
URL:https://centerforthehumanpast.se/index.php/event/closed-chp-event/
ATTACH;FMTTYPE=image/jpeg:https://centerforthehumanpast.se/wp-content/uploads/2024/09/featured-by-invitation-1.jpeg
ORGANIZER;CN="Mika Norling":MAILTO:chp-coordinator@uu.se
END:VEVENT
BEGIN:VEVENT
DTSTART;TZID=Europe/Stockholm:20241204T141500
DTEND;TZID=Europe/Stockholm:20241204T163000
DTSTAMP:20260424T121622
CREATED:20241114T141121Z
LAST-MODIFIED:20241127T143403Z
UID:1269-1733321700-1733329800@centerforthehumanpast.se
SUMMARY:Talks of the Past (ToP) Open Seminar\, Dec 4th\, 2024: The Language Families of the World: Current State and Future Perspectives\, speaker Harald Hammarström
DESCRIPTION:Abstract\nThe approximately 7\,000 languages of the world is currently divided into no less than 422 lineages (= families + isolates) by the orthodox evidential criteria of Glottolog (glottolog.org). \nShould we believe this number?  To what extent is it subjective\, consistent in meta-properties and dependent on the amount of research and documentation? The time-depth of the families so far established do not reach more than 10\,000 years back in time whereas human language arguably goes back at least 300\,000 years (probably further). \nThe inherent rate of linguistic change puts a limit on how deep linguistic data alone can probe\, but are there combinations using evidence from other disciplines and general geospatial considerations that may take us further?
URL:https://centerforthehumanpast.se/index.php/event/talks-of-the-past-top-open-seminar-dec-4th-2024-speaker-harald-hammarstrom/
LOCATION:Blåsenhus\, UU\, lärosal 21:136\, von Kraemers allé 1\, Uppsala\, 752 37\, Sweden
CATEGORIES:Seminars,Talks of the Past
ATTACH;FMTTYPE=image/jpeg:https://centerforthehumanpast.se/wp-content/uploads/2024/10/ToP-seminars-8-1.jpeg
ORGANIZER;CN="Mika Norling":MAILTO:chp-coordinator@uu.se
END:VEVENT
BEGIN:VEVENT
DTSTART;TZID=Europe/Stockholm:20241127T000000
DTEND;TZID=Europe/Stockholm:20241127T000000
DTSTAMP:20260424T121622
CREATED:20241114T133631Z
LAST-MODIFIED:20241121T150908Z
UID:1181-1732665600-1732665600@centerforthehumanpast.se
SUMMARY:Mini-Seminar (by invitation only): Baltic kinship terms in Finno-Ugric\, Indo-European kinship terms and their family structure
DESCRIPTION:
URL:https://centerforthehumanpast.se/index.php/event/mini-seminar-by-chp-baltic-kinship-terms-in-finno-ugric-indo-european-kinship-terms-and-their-family-structure/
CATEGORIES:Mini-Seminars,Seminars
ATTACH;FMTTYPE=image/jpeg:https://centerforthehumanpast.se/wp-content/uploads/2024/09/featured-by-invitation-1.jpeg
ORGANIZER;CN="Mika Norling":MAILTO:chp-coordinator@uu.se
END:VEVENT
BEGIN:VEVENT
DTSTART;TZID=Europe/Stockholm:20241113T110000
DTEND;TZID=Europe/Stockholm:20241113T120000
DTSTAMP:20260424T121622
CREATED:20241108T080919Z
LAST-MODIFIED:20241111T123220Z
UID:1223-1731495600-1731499200@centerforthehumanpast.se
SUMMARY:Carina Schlebusch inaugural lecture: “Mapping Human History through African Genetics”
DESCRIPTION:“In my research I use genetics as a tool to investigate human history. My special interest and expertise in the population history of Africa allow me the opportunity to investigate both recent population movements\, associated with farming\, as well as deep human history\, which is rooted in Africa. My research group is positioned in the Human Evolution Program\, at the Department of Organismal Biology\, UU.” \nCarina Schlebusch profile page \nFind the venue on Maze Map
URL:https://centerforthehumanpast.se/index.php/event/carina-schlebusch-inaugural-lecture-mapping-human-history-through-african-genetics/
LOCATION:Lecture Hall IX\, Uppsala University Main Building\, Biskopsgatan 3\, Uppsala\, 753 10\, Sweden
CATEGORIES:Lectures
END:VEVENT
BEGIN:VEVENT
DTSTART;TZID=Europe/Stockholm:20241106T141500
DTEND;TZID=Europe/Stockholm:20241106T153000
DTSTAMP:20260424T121622
CREATED:20240905T124837Z
LAST-MODIFIED:20241114T140645Z
UID:862-1730902500-1730907000@centerforthehumanpast.se
SUMMARY:Talks of the Past (ToP) Open Seminar\, Nov 6th\, 2024: New linguistic and archaeogenomic perspectives on the origin and spread of the Germanic languages\, speaker Guus Kroonen
DESCRIPTION:Synopsis\nThe Germanic languages\, including English\, German and the Nordic languages\, are widely assumed to have dispersed from Southern Scandinavia after the Pre-Roman Iron Age. However\, the demographic processes behind their diversification are not yet fully understood. In addition\, it is currently not known when and from where the Germanic language group arrived in Scandinavia. \nTo understand the prehistoric and historical distributions of the Germanic languages\, I contributed to a paleogenomic study analyzing 710 ancient genomes and 3\,940 published genomes from western Eurasia. Results indicate a Late Neolithic cross-Baltic maritime migration and significant genetic shifts during the Migration Period\, impacting populations across northern Europe. \nIn this talk\, I will discuss the challenges of interpreting archaeogenomic evidence at clarifying language origins and dispersals. \n 
URL:https://centerforthehumanpast.se/index.php/event/talks-of-the-past-top-open-seminar-nov-6th-2024/
LOCATION:Blåsenhus\, UU\, lärosal 21:136\, von Kraemers allé 1\, Uppsala\, 752 37\, Sweden
CATEGORIES:Seminars,Talks of the Past
ATTACH;FMTTYPE=image/jpeg:https://centerforthehumanpast.se/wp-content/uploads/2024/10/ToP-seminars-8-1.jpeg
ORGANIZER;CN="Mika Norling":MAILTO:chp-coordinator@uu.se
END:VEVENT
BEGIN:VEVENT
DTSTART;TZID=Europe/Stockholm:20241023T000000
DTEND;TZID=Europe/Stockholm:20241023T000000
DTSTAMP:20260424T121622
CREATED:20241015T065834Z
LAST-MODIFIED:20241121T150942Z
UID:1176-1729641600-1729641600@centerforthehumanpast.se
SUMMARY:Article Discussion (by invitation only): Steppe Ancestry in Western Eurasia and the Spread of the Germanic Languages
DESCRIPTION:
URL:https://centerforthehumanpast.se/index.php/event/article-discussion-steppe-ancestry-in-western-eurasia-and-the-spread-of-the-germanic-languages/
CATEGORIES:Mini-Seminars,Seminars
ATTACH;FMTTYPE=image/jpeg:https://centerforthehumanpast.se/wp-content/uploads/2024/09/featured-by-invitation-1.jpeg
ORGANIZER;CN="Mika Norling":MAILTO:chp-coordinator@uu.se
END:VEVENT
BEGIN:VEVENT
DTSTART;TZID=Europe/Stockholm:20241016T000000
DTEND;TZID=Europe/Stockholm:20241016T000000
DTSTAMP:20260424T121622
CREATED:20241015T062920Z
LAST-MODIFIED:20241121T150635Z
UID:1169-1729036800-1729036800@centerforthehumanpast.se
SUMMARY:Mini-Seminar (by invitation only): Blinded by the light - Bifacial points and human mobility in Västerbotten\, Sweden
DESCRIPTION:
URL:https://centerforthehumanpast.se/index.php/event/mini-seminar-by-chp-blinded-by-the-light-bifacial-points-and-human-mobility-in-vasterbotten-sweden/
CATEGORIES:Mini-Seminars,Seminars
ATTACH;FMTTYPE=image/jpeg:https://centerforthehumanpast.se/wp-content/uploads/2024/09/featured-by-invitation-1.jpeg
ORGANIZER;CN="Mika Norling":MAILTO:chp-coordinator@uu.se
END:VEVENT
BEGIN:VEVENT
DTSTART;TZID=Europe/Stockholm:20241008T101500
DTEND;TZID=Europe/Stockholm:20241008T120000
DTSTAMP:20260424T121622
CREATED:20241004T112726Z
LAST-MODIFIED:20241004T112726Z
UID:1157-1728382500-1728388800@centerforthehumanpast.se
SUMMARY:SCAS symposium with Human Past Senior Fellow Yoko Yamazaki: Working and Eating Together – Uralic=Indo-European Contacts in the Bronze Age Working Communities
DESCRIPTION:ABSTRACT \nThe recent advancements in archaeology and archaeogenomics are elucidating dynamic demographic movements\, or migrations\, since the 3rd Mill. BCE\, involving Indo-European and Uralic speakers in West Eurasia. In particular\, Northern and Eastern Europe saw the expansion of the Indo-European associated culture\, Corded Ware Culture (ca. 2800 – 2200 BCE). Subsequently\, the metallurgy and trading network called Seima-Turbino Transcultural Complex emerged (ca. 2200/1900 BCE)\, and rapidly spread in the wide range including Eastern Europe and Fennoscandia. This is associated to the Uralic speakers’ expansion. \nThus\, Indo-European and West Uralic speaking peoples probably came into contact as the Seima-Turbino Transcultural Complex grew\, engaging in trading and metallurgy labors. This is indicated by Indo-European loanwords in the Uralic languages at various chronological stages. Even the \ngenetic evidence can be integrated in this context\, too. It is reported that the admixture of Indo-European ancestries and Siberian ancestry component is found in several individuals from two of the Seima-Turbino burial sites. The Siberian ancestry is strongly associated to the Uralic speakers. \nThere is a Balto-Slavic word *talkā ‘a community of workers that was treated with a feast after work’\, which was loaned in West Uralic. The implication of this loanword may tell us some aspects of their life in contacts\, i.e.\, “eating and working together”. This talk will explore how this loanword can contribute to piece together the picture of the life of those speakers in contact.
URL:https://centerforthehumanpast.se/index.php/event/scas-symposium-with-human-past-senior-fellow-yoko-yamazaki-working-and-eating-together-uralicindo-european-contacts-in-the-bronze-age-working-communities/
ATTACH;FMTTYPE=image/png:https://centerforthehumanpast.se/wp-content/uploads/2024/04/SCAS_textlogo_Black.png
END:VEVENT
BEGIN:VEVENT
DTSTART;TZID=Europe/Stockholm:20241002T141500
DTEND;TZID=Europe/Stockholm:20241002T153000
DTSTAMP:20260424T121622
CREATED:20240916T155737Z
LAST-MODIFIED:20241114T140706Z
UID:1052-1727878500-1727883000@centerforthehumanpast.se
SUMMARY:Talks of the Past (ToP) Open Seminar: Oct 2nd\, 2024: Toward Professional Ethics of Ancestral Human Remains Research: from Tissue to Biomolecules\, speaker Rita Peyroteo Stjerna
DESCRIPTION:Original photograph by T. Ketola\, 2004. Used with permission.\nSynopsis\nAncient human remains are highly prized research subjects because of the wealth of information they can provide about past lives\, which otherwise would be difficult to uncover. In recent years\, the astonishing development of biomolecular techniques such as residue and stable isotope analyses\, proteomics\, and the breakthrough of the next generation sequencing of ancient DNA\, propelled Biomolecular Archaeology to a leading field of research\, crossing major disciplinary boundaries between the Humanities and the Natural Sciences.\nWhile the study of human remains is just one portion of the vast tool kit of biomolecular research\, its rapid development aggravated a number of already existing challenges and underlined the ethical entanglements of research using human remains in a highly unregulated field.\nIn this seminar\, I will focus on the biomolecular dimensions of human remains in research\, how researchers approach this legacy\, and how it differs from handling hard or soft tissue. By focusing on this aspect\, I aim to highlight that biomolecular archaeologists not only have unique professional responsibilities\, but also are exceptionally positioned to lead the debate forward.\nThis study is part of a larger research project – Ethical Entanglements: The Care for Human Remains in Museums and Research\, which seeks to strengthen the competence and awareness\, among museum professionals and researchers of the complex ethical dimensions of research and curation of human remains.
URL:https://centerforthehumanpast.se/index.php/event/talks-of-the-past-top-open-seminar-oct-2nd-2024-toward-professional-ethics-of-ancestral-human-remains-research-from-tissue-to-biomolecules-speaker-rita-peyroteo-stjerna/
LOCATION:Blåsenhus\, UU\, lärosal 21:136\, von Kraemers allé 1\, Uppsala\, 752 37\, Sweden
CATEGORIES:Seminars,Talks of the Past
ATTACH;FMTTYPE=image/jpeg:https://centerforthehumanpast.se/wp-content/uploads/2024/10/ToP-seminars-8-1.jpeg
ORGANIZER;CN="Mika Norling":MAILTO:chp-coordinator@uu.se
END:VEVENT
BEGIN:VEVENT
DTSTART;TZID=Europe/Stockholm:20240925T000000
DTEND;TZID=Europe/Stockholm:20240925T000000
DTSTAMP:20260424T121622
CREATED:20240925T120122Z
LAST-MODIFIED:20241121T151021Z
UID:1094-1727222400-1727222400@centerforthehumanpast.se
SUMMARY:Mini-Seminar (by invitation only): Archaeolinguistic perspectives on the Proto-Indo-Iranian homeland
DESCRIPTION:
URL:https://centerforthehumanpast.se/index.php/event/mini-seminars/
CATEGORIES:Mini-Seminars,Seminars
ATTACH;FMTTYPE=image/jpeg:https://centerforthehumanpast.se/wp-content/uploads/2024/09/featured-by-invitation-1.jpeg
ORGANIZER;CN="Mika Norling":MAILTO:chp-coordinator@uu.se
END:VEVENT
BEGIN:VEVENT
DTSTART;TZID=Europe/Stockholm:20240904T141500
DTEND;TZID=Europe/Stockholm:20240904T153000
DTSTAMP:20260424T121622
CREATED:20240814T124506Z
LAST-MODIFIED:20241114T140717Z
UID:824-1725459300-1725463800@centerforthehumanpast.se
SUMMARY:Talks of the Past (ToP) Open Seminar\, Sept 4th\, 2024: The genetic legacy of the expansion of Bantu-speaking peoples in Africa\, speaker Carina Schlebusch
DESCRIPTION:Canoe floating in the Loange River near the port of Kabombo  (photo by Peter Coutros\, Ghent University)\nSynopsis\nThe Bantu expansion\, a defining event of Holocene Africa\, profoundly transformed the continent’s linguistic\, cultural\, and biological landscape. This talk integrates genomic data with evidence from other disciplines to explore the migration of Bantu-speaking peoples\, which began around 6\,000 years ago in western Africa. By analyzing DNA from modern and ancient populations across Africa\, we reveal how genetic diversity diminishes with distance from the origin\, pinpointing key regions like Zambia and the Democratic Republic of Congo as interaction hubs. Our findings underscore the complex interactions between migrating Bantu communities and indigenous groups\, offering fresh perspectives that bridge the natural sciences and humanities\, with implications for understanding African history and human variation. \nA short film on the Ghent University BantuFirst project’s fieldwork can be viewed here (YouTube)
URL:https://centerforthehumanpast.se/index.php/event/talks-of-the-past-top-seminar/
LOCATION:Blåsenhus\, UU\, lärosal 21:136\, von Kraemers allé 1\, Uppsala\, 752 37\, Sweden
CATEGORIES:Seminars,Talks of the Past
ATTACH;FMTTYPE=image/jpeg:https://centerforthehumanpast.se/wp-content/uploads/2024/10/ToP-seminars-8-1.jpeg
ORGANIZER;CN="Mika Norling":MAILTO:chp-coordinator@uu.se
END:VEVENT
END:VCALENDAR