BEGIN:VCALENDAR
VERSION:2.0
PRODID:-//Center for the Human Past - ECPv6.15.20//NONSGML v1.0//EN
CALSCALE:GREGORIAN
METHOD:PUBLISH
X-WR-CALNAME:Center for the Human Past
X-ORIGINAL-URL:https://centerforthehumanpast.se
X-WR-CALDESC:Events for Center for the Human Past
REFRESH-INTERVAL;VALUE=DURATION:PT1H
X-Robots-Tag:noindex
X-PUBLISHED-TTL:PT1H
BEGIN:VTIMEZONE
TZID:Europe/Stockholm
BEGIN:DAYLIGHT
TZOFFSETFROM:+0100
TZOFFSETTO:+0200
TZNAME:CEST
DTSTART:20240331T010000
END:DAYLIGHT
BEGIN:STANDARD
TZOFFSETFROM:+0200
TZOFFSETTO:+0100
TZNAME:CET
DTSTART:20241027T010000
END:STANDARD
BEGIN:DAYLIGHT
TZOFFSETFROM:+0100
TZOFFSETTO:+0200
TZNAME:CEST
DTSTART:20250330T010000
END:DAYLIGHT
BEGIN:STANDARD
TZOFFSETFROM:+0200
TZOFFSETTO:+0100
TZNAME:CET
DTSTART:20251026T010000
END:STANDARD
BEGIN:DAYLIGHT
TZOFFSETFROM:+0100
TZOFFSETTO:+0200
TZNAME:CEST
DTSTART:20260329T010000
END:DAYLIGHT
BEGIN:STANDARD
TZOFFSETFROM:+0200
TZOFFSETTO:+0100
TZNAME:CET
DTSTART:20261025T010000
END:STANDARD
END:VTIMEZONE
BEGIN:VEVENT
DTSTART;TZID=Europe/Stockholm:20251105T151500
DTEND;TZID=Europe/Stockholm:20251105T163000
DTSTAMP:20260422T100250
CREATED:20251014T141847Z
LAST-MODIFIED:20251014T141847Z
UID:2077-1762355700-1762360200@centerforthehumanpast.se
SUMMARY:Talks of the Past Open Seminar: Transdisciplinary approaches toward resolving the Austronesian problem\, speaker Hugo Reyes Centeno
DESCRIPTION:Abstract\nDespite consensus on the movement of peoples from mainland Asia to Island Southeast Asia and the Pacific over the past five thousand years\, the mode of dispersal and biocultural change remains highly contested. \nWhile some hypotheses posit Austronesian-speaking agriculturalists rapidly dispersing via Taiwan\, other scenarios postulate\, for example\, additional dispersal routes\, the gradual and uneven adoption of agricultural practices\, and dynamic language borrowing. \nThis talk will introduce current debates on the Austronesian problem\, critically synthesising models developed from linguistic\, archaeological\, and genetic lines of evidence. In addition\, it will draw on original fieldwork harnessing archaeological data collected from the Philippines to draw attention to the uneven sampling problem still affecting transdisciplinary studies of the human past in Southeast Asia and Oceania. \n \nHugo Reyes Centeno is an Assistant Professor of Anthropology\, University of Kentucky and the current Human Past SCAS Senior Fellow.
URL:https://centerforthehumanpast.se/index.php/event/talks-of-the-past-open-seminar-transdisciplinary-approaches-toward-resolving-the-austronesian-problem-speaker-hugo-reyes-centeno/
LOCATION:Blåsenhus\, UU\, lärosal 13:028 (plan 1)
CATEGORIES:Lectures,Seminars,Talks of the Past
ATTACH;FMTTYPE=image/jpeg:https://centerforthehumanpast.se/wp-content/uploads/2024/10/ToP-seminars-8-1.jpeg
END:VEVENT
END:VCALENDAR