BEGIN:VCALENDAR
VERSION:2.0
PRODID:-//Center for the Human Past - ECPv6.15.20//NONSGML v1.0//EN
CALSCALE:GREGORIAN
METHOD:PUBLISH
X-ORIGINAL-URL:https://centerforthehumanpast.se
X-WR-CALDESC:Events for Center for the Human Past
REFRESH-INTERVAL;VALUE=DURATION:PT1H
X-Robots-Tag:noindex
X-PUBLISHED-TTL:PT1H
BEGIN:VTIMEZONE
TZID:Europe/Stockholm
BEGIN:DAYLIGHT
TZOFFSETFROM:+0100
TZOFFSETTO:+0200
TZNAME:CEST
DTSTART:20240331T010000
END:DAYLIGHT
BEGIN:STANDARD
TZOFFSETFROM:+0200
TZOFFSETTO:+0100
TZNAME:CET
DTSTART:20241027T010000
END:STANDARD
BEGIN:DAYLIGHT
TZOFFSETFROM:+0100
TZOFFSETTO:+0200
TZNAME:CEST
DTSTART:20250330T010000
END:DAYLIGHT
BEGIN:STANDARD
TZOFFSETFROM:+0200
TZOFFSETTO:+0100
TZNAME:CET
DTSTART:20251026T010000
END:STANDARD
BEGIN:DAYLIGHT
TZOFFSETFROM:+0100
TZOFFSETTO:+0200
TZNAME:CEST
DTSTART:20260329T010000
END:DAYLIGHT
BEGIN:STANDARD
TZOFFSETFROM:+0200
TZOFFSETTO:+0100
TZNAME:CET
DTSTART:20261025T010000
END:STANDARD
END:VTIMEZONE
BEGIN:VEVENT
DTSTART;TZID=Europe/Stockholm:20251119T153000
DTEND;TZID=Europe/Stockholm:20251119T163000
DTSTAMP:20260422T095023
CREATED:20251016T135326Z
LAST-MODIFIED:20251016T141009Z
UID:2141-1763566200-1763569800@centerforthehumanpast.se
SUMMARY:Mini-Seminar: REAL game – Reimagining algorithmic futures: 63 cards for thinking differently about algorithmic systems\, with Julia Velkova
DESCRIPTION:Abstract\nREAL (REimagining ALgorithmic futures) is a card deck designed to inspire and provoke thinking about algorithmic systems and how they shape human lives\, society and potential futures. The cards aim to stimulate thinking and conversations about the values embedded in algorithmic systems\, as well as their social and technological implications. They advocate for a more inclusive dialogue concerning varied algorithmic futures. \nIdeally\, participants should have a specific case from their work that directly involves a digital or algorithmic system. This case might include planning or implementing digital or algorithmic systems\, applying humanities methods in field research\, or engaging with digital infrastructure. The case should be relevant to your professional context and serve as a basis for workshop activities.\n  \n \nJulia Velkova is a professor of Media and Culture\, Linköping University\, Pro Futura Scientia Fellow\, SCAS and Research Affiliate\, Global Media Technologies and Cultures Lab\, University of California\, Santa Barbara.
URL:https://centerforthehumanpast.se/index.php/event/mini-seminar-real-game-reimagining-algorithmic-futures-63-cards-for-thinking-differently-about-algorithmic-systems-with-julia-velkova/
LOCATION:Villa Lugnet\, von Kraemers allé 8\, Uppsala\, Sweden\, 75236\, Sweden
CATEGORIES:Seminars,Workshops
ATTACH;FMTTYPE=image/jpeg:https://centerforthehumanpast.se/wp-content/uploads/2025/10/REALgame20251119-e1760622798935.jpg
END:VEVENT
END:VCALENDAR