BEGIN:VCALENDAR
VERSION:2.0
PRODID:-//Center for the Human Past - ECPv6.15.20//NONSGML v1.0//EN
CALSCALE:GREGORIAN
METHOD:PUBLISH
X-ORIGINAL-URL:https://centerforthehumanpast.se
X-WR-CALDESC:Events for Center for the Human Past
REFRESH-INTERVAL;VALUE=DURATION:PT1H
X-Robots-Tag:noindex
X-PUBLISHED-TTL:PT1H
BEGIN:VTIMEZONE
TZID:Europe/Stockholm
BEGIN:DAYLIGHT
TZOFFSETFROM:+0100
TZOFFSETTO:+0200
TZNAME:CEST
DTSTART:20240331T010000
END:DAYLIGHT
BEGIN:STANDARD
TZOFFSETFROM:+0200
TZOFFSETTO:+0100
TZNAME:CET
DTSTART:20241027T010000
END:STANDARD
BEGIN:DAYLIGHT
TZOFFSETFROM:+0100
TZOFFSETTO:+0200
TZNAME:CEST
DTSTART:20250330T010000
END:DAYLIGHT
BEGIN:STANDARD
TZOFFSETFROM:+0200
TZOFFSETTO:+0100
TZNAME:CET
DTSTART:20251026T010000
END:STANDARD
BEGIN:DAYLIGHT
TZOFFSETFROM:+0100
TZOFFSETTO:+0200
TZNAME:CEST
DTSTART:20260329T010000
END:DAYLIGHT
BEGIN:STANDARD
TZOFFSETFROM:+0200
TZOFFSETTO:+0100
TZNAME:CET
DTSTART:20261025T010000
END:STANDARD
END:VTIMEZONE
BEGIN:VEVENT
DTSTART;TZID=Europe/Stockholm:20251022T151500
DTEND;TZID=Europe/Stockholm:20251022T163000
DTSTAMP:20260422T145406
CREATED:20251009T081414Z
LAST-MODIFIED:20251009T082245Z
UID:2101-1761146100-1761150600@centerforthehumanpast.se
SUMMARY:Mini-Seminar: Studying urban inequality in the past: lessons from Pompeii\, with Samuli Simelius
DESCRIPTION:Abstract\nThe study of Roman social stratification has often focused on social and legal status within society. Other dimensions of inequality have been largely sidelined\, although interest in economic inequality has grown recently. Yet\, methodologies to study wealth inequality that rely on house size still require significant improvement to better capture the complexity of Roman society. Furthermore\, aspects such as health disparities in Roman cities have received little attention. \nIn his talk\,  Samuli Simelius will present new approaches to studying both economic and health inequality. He will use Pompeii as a case study\, but these methods can also be applied beyond this well-known Roman city to other archaeological and historical contexts. \n \nSamuli Simelius is a grant-funded researcher specialising in Roman urbanism and domestic space. He is also a current SCAS-Nordic Fellow. \nSamuli Simelius on Google Scholar
URL:https://centerforthehumanpast.se/index.php/event/mini-seminar-studying-urban-inequality-in-the-past-lessons-from-pompeii-with-samuli-simelius/
LOCATION:Villa Lugnet\, von Kraemers allé 8\, Uppsala\, Sweden\, 75236\, Sweden
CATEGORIES:Mini-Seminars,Seminars
END:VEVENT
END:VCALENDAR