BEGIN:VCALENDAR
VERSION:2.0
PRODID:-//Center for the Human Past - ECPv6.15.20//NONSGML v1.0//EN
CALSCALE:GREGORIAN
METHOD:PUBLISH
X-WR-CALNAME:Center for the Human Past
X-ORIGINAL-URL:https://centerforthehumanpast.se
X-WR-CALDESC:Events for Center for the Human Past
REFRESH-INTERVAL;VALUE=DURATION:PT1H
X-Robots-Tag:noindex
X-PUBLISHED-TTL:PT1H
BEGIN:VTIMEZONE
TZID:Europe/Stockholm
BEGIN:DAYLIGHT
TZOFFSETFROM:+0100
TZOFFSETTO:+0200
TZNAME:CEST
DTSTART:20240331T010000
END:DAYLIGHT
BEGIN:STANDARD
TZOFFSETFROM:+0200
TZOFFSETTO:+0100
TZNAME:CET
DTSTART:20241027T010000
END:STANDARD
BEGIN:DAYLIGHT
TZOFFSETFROM:+0100
TZOFFSETTO:+0200
TZNAME:CEST
DTSTART:20250330T010000
END:DAYLIGHT
BEGIN:STANDARD
TZOFFSETFROM:+0200
TZOFFSETTO:+0100
TZNAME:CET
DTSTART:20251026T010000
END:STANDARD
BEGIN:DAYLIGHT
TZOFFSETFROM:+0100
TZOFFSETTO:+0200
TZNAME:CEST
DTSTART:20260329T010000
END:DAYLIGHT
BEGIN:STANDARD
TZOFFSETFROM:+0200
TZOFFSETTO:+0100
TZNAME:CET
DTSTART:20261025T010000
END:STANDARD
END:VTIMEZONE
BEGIN:VEVENT
DTSTART;TZID=Europe/Stockholm:20251126T151500
DTEND;TZID=Europe/Stockholm:20251126T163000
DTSTAMP:20260422T083212
CREATED:20251009T130608Z
LAST-MODIFIED:20251009T130608Z
UID:2110-1764170100-1764174600@centerforthehumanpast.se
SUMMARY:Human Past Journal Club
DESCRIPTION:Discussion pre-print:\n\nDelbrassine\, H.\, Mezzavilla\, M.\, Vallini\, L. et al. Worldwide patterns in mythology echo the human expansion out of Africa\, bioRxiv 2025.01.24.634692; doi: https://doi.org/10.1101/2025.01.24.634692\n\nAbstract\nSimilarities between geographically distant mythological and folkloric traditions have been noted for a long time. With the elaboration of large banks of data describing the presence and absence of narrative motifs around the world\, scholars have been able to statistically investigate their potential routes and mechanisms of diffusion. However\, despite genetic data allowing for increasingly refined demographic movement inferences\, few have integrated it into their models\, and none at a global scale. In this work\, we capitalise on the augmenting availability of modern and ancient genetic data and on Yuri E. Berezkin’s database of more than 2000 mythological motifs worldwide to investigate the mechanisms involved in generating their present-day distribution at a global scale. The direct combination of both kinds of evidence allows us to explore in more depth the respective influences of population movement and replacement versus cultural diffusion on motif transmission. Our results show that both processes have played important roles in shaping their present-day distribution. By leveraging available ancient DNA (aDNA) and deepening the temporal scale of the detected signals\, we reveal that correlations between mythemes and genetic patterns can be traced back to population movements that pre-date the Last Glacial Maximum and go back to at least 38\,000 years ago\, and possibly even earlier to the human expansion out of Africa some 60\,000 years ago. Our work shows the earliest evidence for the transmission of stories and storytelling in human history\, and supports the joint use of cultural evolutionary theory and population genetics to illuminate the biocultural processes that shaped our species.\n\nModerators: Hugo Reyes Centeno & Jenny Larsson
URL:https://centerforthehumanpast.se/index.php/event/human-past-journal-club-4/
LOCATION:Villa Lugnet\, von Kraemers allé 8\, Uppsala\, Sweden\, 75236\, Sweden
CATEGORIES:Journal Club
ATTACH;FMTTYPE=image/jpeg:https://centerforthehumanpast.se/wp-content/uploads/2025/03/Lightmatter_paperwork.jpg
END:VEVENT
END:VCALENDAR